BEGIN:VCALENDAR
VERSION:2.0
PRODID:-//EVBC - ECPv6.15.20//NONSGML v1.0//EN
CALSCALE:GREGORIAN
METHOD:PUBLISH
X-WR-CALNAME:EVBC
X-ORIGINAL-URL:https://evbc.uni-jena.de
X-WR-CALDESC:Events for EVBC
REFRESH-INTERVAL;VALUE=DURATION:PT1H
X-Robots-Tag:noindex
X-PUBLISHED-TTL:PT1H
BEGIN:VTIMEZONE
TZID:Europe/Berlin
BEGIN:DAYLIGHT
TZOFFSETFROM:+0100
TZOFFSETTO:+0200
TZNAME:CEST
DTSTART:20250330T010000
END:DAYLIGHT
BEGIN:STANDARD
TZOFFSETFROM:+0200
TZOFFSETTO:+0100
TZNAME:CET
DTSTART:20251026T010000
END:STANDARD
BEGIN:DAYLIGHT
TZOFFSETFROM:+0100
TZOFFSETTO:+0200
TZNAME:CEST
DTSTART:20260329T010000
END:DAYLIGHT
BEGIN:STANDARD
TZOFFSETFROM:+0200
TZOFFSETTO:+0100
TZNAME:CET
DTSTART:20261025T010000
END:STANDARD
BEGIN:DAYLIGHT
TZOFFSETFROM:+0100
TZOFFSETTO:+0200
TZNAME:CEST
DTSTART:20270328T010000
END:DAYLIGHT
BEGIN:STANDARD
TZOFFSETFROM:+0200
TZOFFSETTO:+0100
TZNAME:CET
DTSTART:20271031T010000
END:STANDARD
END:VTIMEZONE
BEGIN:VEVENT
DTSTART;VALUE=DATE:20260427
DTEND;VALUE=DATE:20260429
DTSTAMP:20260421T014921
CREATED:20251216T094418Z
LAST-MODIFIED:20251216T094602Z
UID:7529-1777248000-1777420799@evbc.uni-jena.de
SUMMARY:4th European Congress on Biomedical Science & Engineering
DESCRIPTION:Theme: “Re-Imagining Biomedical Engineering for a Future World Wellness”
URL:https://evbc.uni-jena.de/event/4th-european-congress-on-biomedical-science-engineering/
LOCATION:Holiday Inn Berlin Airport Conference Centre\, Berlin\, Germany
END:VEVENT
END:VCALENDAR